BEGIN:VCALENDAR
VERSION:2.0
PRODID:DPCALENDAR
CALSCALE:GREGORIAN
BEGIN:VTIMEZONE
TZID:Europe/London
X-MICROSOFT-CDO-TZID:1
BEGIN:STANDARD
DTSTART:20251026T010000
TZOFFSETFROM:+0100
TZOFFSETTO:+0000
TZNAME:GMT
END:STANDARD
BEGIN:STANDARD
DTSTART:20261025T010000
TZOFFSETFROM:+0100
TZOFFSETTO:+0000
TZNAME:GMT
END:STANDARD
BEGIN:DAYLIGHT
DTSTART:20260329T010000
TZOFFSETFROM:+0000
TZOFFSETTO:+0100
TZNAME:BST
END:DAYLIGHT
END:VTIMEZONE
X-WR-TIMEZONE:Europe/London
BEGIN:VEVENT
DTSTART;TZID=Europe/London:20260317T110000
DTEND;TZID=Europe/London:20260317T120000
UID:ccp38cpj64s36bb6c8pjib9kcgsm2b9o60pjgb9g6cqj0dr2c5gjce1p74@google.com
SUMMARY:Interment of Ashes
DTSTAMP:20260216T112044Z
DESCRIPTION:
X-ALT-DESC;FMTTYPE=text/html:
LAST-MODIFIED:20260216T112044Z
X-ACCESS:1
X-HITS:0
X-URL:https://www.google.com/calendar/event?eid=Y2NwMzhjcGo2NHMzNmJiNmM4cGppYjlrY2dzbTJiOW82MHBqZ2I5ZzZjcWowZHIyYzVnamNlMXA3NCBrdjlvcWY0N2ZoZWdxOWs5djNrbDdhbW1yb0Bn
X-COLOR:F4511E
END:VEVENT
END:VCALENDAR